BEGIN:VCALENDAR
VERSION:2.0
PRODID:-//Simon Oliver Sensei - ECPv5.16.4//NONSGML v1.0//EN
CALSCALE:GREGORIAN
METHOD:PUBLISH
X-WR-CALNAME:Simon Oliver Sensei
X-ORIGINAL-URL:https://simonoliversensei.com/wp
X-WR-CALDESC:Events for Simon Oliver Sensei
BEGIN:VTIMEZONE
TZID:UTC
BEGIN:STANDARD
TZOFFSETFROM:+0000
TZOFFSETTO:+0000
TZNAME:UTC
DTSTART:20170101T000000
END:STANDARD
END:VTIMEZONE
BEGIN:VEVENT
DTSTART;TZID=UTC:20170929T170000
DTEND;TZID=UTC:20170929T203000
DTSTAMP:20260422T153047
CREATED:20170901T081804Z
LAST-MODIFIED:20170901T121854Z
UID:2536-1506704400-1506717000@simonoliversensei.com
SUMMARY:Yamazaki Brighton
DESCRIPTION:JKR-UK Invites you to attend an Open Seminar\n With\n Kiyoshi Yamazaki Sensei\n At\n Woodingdean Community Centre\n Warren Road\n Brighton\n BN2 6BB\n United Kingdom\n Time\n 5:00pm to 6:00pm Juniors\n 6.30pm to 8.30pm Adults all grades\n for booking form please email; jkrukhombu@gmail.com
URL:https://simonoliversensei.com/wp/event/yamazaki-brighton/
LOCATION:Woodingdean Community Centre\, Warren Road\, Brighton\, BN2 6BB\, United Kingdom
CATEGORIES:JKR-UK Event
ATTACH;FMTTYPE=image/jpeg:https://simonoliversensei.com/wp/wp-content/uploads/2017/09/Yamazaki-2017.jpg
END:VEVENT
END:VCALENDAR