BEGIN:VCALENDAR
VERSION:2.0
PRODID:-//Simon Oliver Sensei - ECPv5.16.4//NONSGML v1.0//EN
CALSCALE:GREGORIAN
METHOD:PUBLISH
X-WR-CALNAME:Simon Oliver Sensei
X-ORIGINAL-URL:https://simonoliversensei.com/wp
X-WR-CALDESC:Events for Simon Oliver Sensei
BEGIN:VTIMEZONE
TZID:UTC
BEGIN:STANDARD
TZOFFSETFROM:+0000
TZOFFSETTO:+0000
TZNAME:UTC
DTSTART:20170101T000000
END:STANDARD
END:VTIMEZONE
BEGIN:VEVENT
DTSTART;TZID=UTC:20170928T190000
DTEND;TZID=UTC:20170928T203000
DTSTAMP:20260422T154141
CREATED:20170831T165915Z
LAST-MODIFIED:20170901T121824Z
UID:2502-1506625200-1506630600@simonoliversensei.com
SUMMARY:JKR UK Present Yamazaki Sensei In Bedfordshire
DESCRIPTION:A Special Open Seminar With Our Chief International Instructor. \nThe Seminar will cover 'Goshin'  Self Defence Techniques and is open to all grades  and styles. \n  \nSave \nSave \nSave \nSave \nSave
URL:https://simonoliversensei.com/wp/event/jkr-uk-present-yamazaki-sensei-in-bedfordshire/
CATEGORIES:JKR-UK Event
ATTACH;FMTTYPE=image/jpeg:https://simonoliversensei.com/wp/wp-content/uploads/2017/08/Yamazaki-17.jpg
END:VEVENT
END:VCALENDAR